BEGIN:VCALENDAR
VERSION:2.0
PRODID:-// - ECPv6.15.19//NONSGML v1.0//EN
CALSCALE:GREGORIAN
METHOD:PUBLISH
X-ORIGINAL-URL:https://www.buurthuisrengerspark.nl
X-WR-CALDESC:Evenementen voor 
REFRESH-INTERVAL;VALUE=DURATION:PT1H
X-Robots-Tag:noindex
X-PUBLISHED-TTL:PT1H
BEGIN:VTIMEZONE
TZID:Europe/Amsterdam
BEGIN:DAYLIGHT
TZOFFSETFROM:+0100
TZOFFSETTO:+0200
TZNAME:CEST
DTSTART:20250330T010000
END:DAYLIGHT
BEGIN:STANDARD
TZOFFSETFROM:+0200
TZOFFSETTO:+0100
TZNAME:CET
DTSTART:20251026T010000
END:STANDARD
BEGIN:DAYLIGHT
TZOFFSETFROM:+0100
TZOFFSETTO:+0200
TZNAME:CEST
DTSTART:20260329T010000
END:DAYLIGHT
BEGIN:STANDARD
TZOFFSETFROM:+0200
TZOFFSETTO:+0100
TZNAME:CET
DTSTART:20261025T010000
END:STANDARD
BEGIN:DAYLIGHT
TZOFFSETFROM:+0100
TZOFFSETTO:+0200
TZNAME:CEST
DTSTART:20270328T010000
END:DAYLIGHT
BEGIN:STANDARD
TZOFFSETFROM:+0200
TZOFFSETTO:+0100
TZNAME:CET
DTSTART:20271031T010000
END:STANDARD
END:VTIMEZONE
BEGIN:VEVENT
DTSTART;TZID=Europe/Amsterdam:20260118T080000
DTEND;TZID=Europe/Amsterdam:20260118T233000
DTSTAMP:20260426T060323
CREATED:20251123T180841Z
LAST-MODIFIED:20260119T215117Z
UID:1590-1768723200-1768779000@www.buurthuisrengerspark.nl
SUMMARY:MTV Wijkfeest Vrijwilligersdag
DESCRIPTION:Uitnodiging aan alle vrijwilligers van het MTV Wijkfeest van 2025.
URL:https://www.buurthuisrengerspark.nl/event/mtv-wijkfeest-vrijwilligersdag/
LOCATION:Buurthuis Rengerspark\, Singelstraat 22\, Leeuwarden\, Friesland\, 8917BK\, Netherlands
CATEGORIES:Wijkfeest
ATTACH;FMTTYPE=image/png:https://www.buurthuisrengerspark.nl/wp-content/uploads/2024/01/MTV-Wijkfeest-news.png
ORGANIZER;CN="MTV Wijkfeest":MAILTO:info@buurthuisrengerspark.nl
END:VEVENT
END:VCALENDAR