BEGIN:VCALENDAR
VERSION:2.0
PRODID:-// - ECPv6.15.19//NONSGML v1.0//EN
CALSCALE:GREGORIAN
METHOD:PUBLISH
X-ORIGINAL-URL:https://www.buurthuisrengerspark.nl
X-WR-CALDESC:Evenementen voor 
REFRESH-INTERVAL;VALUE=DURATION:PT1H
X-Robots-Tag:noindex
X-PUBLISHED-TTL:PT1H
BEGIN:VTIMEZONE
TZID:Europe/Amsterdam
BEGIN:DAYLIGHT
TZOFFSETFROM:+0100
TZOFFSETTO:+0200
TZNAME:CEST
DTSTART:20240331T010000
END:DAYLIGHT
BEGIN:STANDARD
TZOFFSETFROM:+0200
TZOFFSETTO:+0100
TZNAME:CET
DTSTART:20241027T010000
END:STANDARD
BEGIN:DAYLIGHT
TZOFFSETFROM:+0100
TZOFFSETTO:+0200
TZNAME:CEST
DTSTART:20250330T010000
END:DAYLIGHT
BEGIN:STANDARD
TZOFFSETFROM:+0200
TZOFFSETTO:+0100
TZNAME:CET
DTSTART:20251026T010000
END:STANDARD
BEGIN:DAYLIGHT
TZOFFSETFROM:+0100
TZOFFSETTO:+0200
TZNAME:CEST
DTSTART:20260329T010000
END:DAYLIGHT
BEGIN:STANDARD
TZOFFSETFROM:+0200
TZOFFSETTO:+0100
TZNAME:CET
DTSTART:20261025T010000
END:STANDARD
END:VTIMEZONE
BEGIN:VEVENT
DTSTART;TZID=Europe/Amsterdam:20251210T140000
DTEND;TZID=Europe/Amsterdam:20251210T160000
DTSTAMP:20260421T222538
CREATED:20250922T104358Z
LAST-MODIFIED:20250922T104358Z
UID:1530-1765375200-1765382400@www.buurthuisrengerspark.nl
SUMMARY:Schildercursus Deel 9 van 10
DESCRIPTION:Schildercursus gegeven door Peter Foekema. De cursus bestaat uit 10 lessen met verschillende thema’s. Er wordt met het principe nat op nat (wet on wet) geschilderd\, en er wordt alleen met olieverf gewerkt. Men leert de opbouw van een schilderij\, het perspectief\, verhoudingen etcetera. De groepen zullen uit 10 a 12 cursisten bestaan\, zodat een ieder genoeg aandacht krijgt voor het maken van hun werk. Sfeer\, het sociale contact\, de uitdaging\, het zijn allemaal ingrediënten om de lessen waardevol te maken. Voor informatie kunt u bellen met  Peter  of een keer langskomen.
URL:https://www.buurthuisrengerspark.nl/event/schildercursus-deel-9-van-10/
LOCATION:Buurthuis Rengerspark\, Singelstraat 22\, Leeuwarden\, Friesland\, 8917BK\, Netherlands
CATEGORIES:Schildercursus met Peter Foekema
ATTACH;FMTTYPE=image/png:https://www.buurthuisrengerspark.nl/wp-content/uploads/2025/09/PF.png
ORGANIZER;CN="Peter Foekema":MAILTO:petersschilderijen@hotmail.com
END:VEVENT
END:VCALENDAR