BEGIN:VCALENDAR
VERSION:2.0
PRODID:-// - ECPv6.15.19//NONSGML v1.0//EN
CALSCALE:GREGORIAN
METHOD:PUBLISH
X-ORIGINAL-URL:https://www.buurthuisrengerspark.nl
X-WR-CALDESC:Evenementen voor 
REFRESH-INTERVAL;VALUE=DURATION:PT1H
X-Robots-Tag:noindex
X-PUBLISHED-TTL:PT1H
BEGIN:VTIMEZONE
TZID:Europe/Amsterdam
BEGIN:DAYLIGHT
TZOFFSETFROM:+0100
TZOFFSETTO:+0200
TZNAME:CEST
DTSTART:20250330T010000
END:DAYLIGHT
BEGIN:STANDARD
TZOFFSETFROM:+0200
TZOFFSETTO:+0100
TZNAME:CET
DTSTART:20251026T010000
END:STANDARD
BEGIN:DAYLIGHT
TZOFFSETFROM:+0100
TZOFFSETTO:+0200
TZNAME:CEST
DTSTART:20260329T010000
END:DAYLIGHT
BEGIN:STANDARD
TZOFFSETFROM:+0200
TZOFFSETTO:+0100
TZNAME:CET
DTSTART:20261025T010000
END:STANDARD
BEGIN:DAYLIGHT
TZOFFSETFROM:+0100
TZOFFSETTO:+0200
TZNAME:CEST
DTSTART:20270328T010000
END:DAYLIGHT
BEGIN:STANDARD
TZOFFSETFROM:+0200
TZOFFSETTO:+0100
TZNAME:CET
DTSTART:20271031T010000
END:STANDARD
END:VTIMEZONE
BEGIN:VEVENT
DTSTART;TZID=Europe/Amsterdam:20260807T140000
DTEND;TZID=Europe/Amsterdam:20260807T233000
DTSTAMP:20260419T151504
CREATED:20260117T222724Z
LAST-MODIFIED:20260120T115828Z
UID:1779-1786111200-1786145400@www.buurthuisrengerspark.nl
SUMMARY:UCP Spellen vereniging
DESCRIPTION:Elke vrijdag avond is er spellenavond! \nNatuurlijk zijn er volop bordspellen te spelen en daarnaast zijn vrijwel alle spelgroepen vertegenwoordigd en is er van alles te spelen!
URL:https://www.buurthuisrengerspark.nl/event/ucp-spellen-vereniging-46/
LOCATION:Buurthuis Rengerspark\, Singelstraat 22\, Leeuwarden\, Friesland\, 8917BK\, Netherlands
CATEGORIES:UCP Spellenvereniging
ATTACH;FMTTYPE=image/jpeg:https://www.buurthuisrengerspark.nl/wp-content/uploads/2025/06/ucp_leeuwarden.jpg
ORGANIZER;CN="UCP Spellenvereniging":MAILTO:info@ucpleeuwarden.nl
END:VEVENT
BEGIN:VEVENT
DTSTART;TZID=Europe/Amsterdam:20260808T120000
DTEND;TZID=Europe/Amsterdam:20260808T170000
DTSTAMP:20260419T151504
CREATED:20260117T195704Z
LAST-MODIFIED:20260130T202852Z
UID:1701-1786190400-1786208400@www.buurthuisrengerspark.nl
SUMMARY:UCP Spelmiddag
DESCRIPTION:De UCP Zaterdagmiddag Spelmiddag.\nVandaag worden de volgende spellen gespeeld:\nLocarna\, Miniature Wargames en Pokemon.
URL:https://www.buurthuisrengerspark.nl/event/ucp-spelmiddag-9/
LOCATION:Buurthuis Rengerspark\, Singelstraat 22\, Leeuwarden\, Friesland\, 8917BK\, Netherlands
CATEGORIES:UCP Spellenvereniging
ATTACH;FMTTYPE=image/jpeg:https://www.buurthuisrengerspark.nl/wp-content/uploads/2025/06/ucp_leeuwarden.jpg
ORGANIZER;CN="UCP Spellenvereniging":MAILTO:info@ucpleeuwarden.nl
END:VEVENT
BEGIN:VEVENT
DTSTART;TZID=Europe/Amsterdam:20260821T140000
DTEND;TZID=Europe/Amsterdam:20260821T233000
DTSTAMP:20260419T151504
CREATED:20260117T222847Z
LAST-MODIFIED:20260120T115909Z
UID:1781-1787320800-1787355000@www.buurthuisrengerspark.nl
SUMMARY:UCP Spellen vereniging
DESCRIPTION:Elke vrijdag avond is er spellenavond! \nNatuurlijk zijn er volop bordspellen te spelen en daarnaast zijn vrijwel alle spelgroepen vertegenwoordigd en is er van alles te spelen!
URL:https://www.buurthuisrengerspark.nl/event/ucp-spellen-vereniging-47/
LOCATION:Buurthuis Rengerspark\, Singelstraat 22\, Leeuwarden\, Friesland\, 8917BK\, Netherlands
CATEGORIES:UCP Spellenvereniging
ATTACH;FMTTYPE=image/jpeg:https://www.buurthuisrengerspark.nl/wp-content/uploads/2025/06/ucp_leeuwarden.jpg
ORGANIZER;CN="UCP Spellenvereniging":MAILTO:info@ucpleeuwarden.nl
END:VEVENT
BEGIN:VEVENT
DTSTART;TZID=Europe/Amsterdam:20260828T140000
DTEND;TZID=Europe/Amsterdam:20260828T233000
DTSTAMP:20260419T151504
CREATED:20260117T223010Z
LAST-MODIFIED:20260120T120130Z
UID:1783-1787925600-1787959800@www.buurthuisrengerspark.nl
SUMMARY:UCP Spellen vereniging
DESCRIPTION:Elke vrijdag avond is er spellenavond! \nNatuurlijk zijn er volop bordspellen te spelen en daarnaast zijn vrijwel alle spelgroepen vertegenwoordigd en is er van alles te spelen!
URL:https://www.buurthuisrengerspark.nl/event/ucp-spellen-vereniging-48/
LOCATION:Buurthuis Rengerspark\, Singelstraat 22\, Leeuwarden\, Friesland\, 8917BK\, Netherlands
CATEGORIES:UCP Spellenvereniging
ATTACH;FMTTYPE=image/jpeg:https://www.buurthuisrengerspark.nl/wp-content/uploads/2025/06/ucp_leeuwarden.jpg
ORGANIZER;CN="UCP Spellenvereniging":MAILTO:info@ucpleeuwarden.nl
END:VEVENT
BEGIN:VEVENT
DTSTART;TZID=Europe/Amsterdam:20260904T140000
DTEND;TZID=Europe/Amsterdam:20260904T233000
DTSTAMP:20260419T151504
CREATED:20260117T224014Z
LAST-MODIFIED:20260120T120250Z
UID:1785-1788530400-1788564600@www.buurthuisrengerspark.nl
SUMMARY:UCP Spellen vereniging
DESCRIPTION:Elke vrijdag avond is er spellenavond! \nNatuurlijk zijn er volop bordspellen te spelen en daarnaast zijn vrijwel alle spelgroepen vertegenwoordigd en is er van alles te spelen!
URL:https://www.buurthuisrengerspark.nl/event/ucp-spellen-vereniging-49/
LOCATION:Buurthuis Rengerspark\, Singelstraat 22\, Leeuwarden\, Friesland\, 8917BK\, Netherlands
CATEGORIES:UCP Spellenvereniging
ATTACH;FMTTYPE=image/jpeg:https://www.buurthuisrengerspark.nl/wp-content/uploads/2025/06/ucp_leeuwarden.jpg
ORGANIZER;CN="UCP Spellenvereniging":MAILTO:info@ucpleeuwarden.nl
END:VEVENT
BEGIN:VEVENT
DTSTART;TZID=Europe/Amsterdam:20260911T140000
DTEND;TZID=Europe/Amsterdam:20260911T233000
DTSTAMP:20260419T151504
CREATED:20260117T224320Z
LAST-MODIFIED:20260120T120413Z
UID:1789-1789135200-1789169400@www.buurthuisrengerspark.nl
SUMMARY:UCP Spellen vereniging
DESCRIPTION:Elke vrijdag avond is er spellenavond! \nNatuurlijk zijn er volop bordspellen te spelen en daarnaast zijn vrijwel alle spelgroepen vertegenwoordigd en is er van alles te spelen!
URL:https://www.buurthuisrengerspark.nl/event/ucp-spellen-vereniging-51/
LOCATION:Buurthuis Rengerspark\, Singelstraat 22\, Leeuwarden\, Friesland\, 8917BK\, Netherlands
CATEGORIES:UCP Spellenvereniging
ATTACH;FMTTYPE=image/jpeg:https://www.buurthuisrengerspark.nl/wp-content/uploads/2025/06/ucp_leeuwarden.jpg
ORGANIZER;CN="UCP Spellenvereniging":MAILTO:info@ucpleeuwarden.nl
END:VEVENT
BEGIN:VEVENT
DTSTART;TZID=Europe/Amsterdam:20260918T080000
DTEND;TZID=Europe/Amsterdam:20260918T170000
DTSTAMP:20260419T151504
CREATED:20260117T224447Z
LAST-MODIFIED:20260120T120453Z
UID:1791-1789718400-1789750800@www.buurthuisrengerspark.nl
SUMMARY:UCP Spellen vereniging
DESCRIPTION:Elke vrijdag avond is er spellenavond! \nNatuurlijk zijn er volop bordspellen te spelen en daarnaast zijn vrijwel alle spelgroepen vertegenwoordigd en is er van alles te spelen!
URL:https://www.buurthuisrengerspark.nl/event/ucp-spellen-vereniging-52/
LOCATION:Buurthuis Rengerspark\, Singelstraat 22\, Leeuwarden\, Friesland\, 8917BK\, Netherlands
CATEGORIES:UCP Spellenvereniging
ATTACH;FMTTYPE=image/jpeg:https://www.buurthuisrengerspark.nl/wp-content/uploads/2025/06/ucp_leeuwarden.jpg
ORGANIZER;CN="UCP Spellenvereniging":MAILTO:info@ucpleeuwarden.nl
END:VEVENT
BEGIN:VEVENT
DTSTART;TZID=Europe/Amsterdam:20260920T120000
DTEND;TZID=Europe/Amsterdam:20260920T170000
DTSTAMP:20260419T151504
CREATED:20260130T215932Z
LAST-MODIFIED:20260130T215932Z
UID:2108-1789905600-1789923600@www.buurthuisrengerspark.nl
SUMMARY:De UCP Zondagmiddag Spelmiddag.
DESCRIPTION:De UCP Zondagmiddag Spelmiddag.\nVandaag worden de volgende spellen gespeeld:\nLocarna\, Miniature Wargames en Pokemon.
URL:https://www.buurthuisrengerspark.nl/event/de-ucp-zondagmiddag-spelmiddag-7/
LOCATION:Buurthuis Rengerspark\, Singelstraat 22\, Leeuwarden\, Friesland\, 8917BK\, Netherlands
CATEGORIES:UCP Spellenvereniging
ATTACH;FMTTYPE=image/jpeg:https://www.buurthuisrengerspark.nl/wp-content/uploads/2025/06/ucp_leeuwarden.jpg
ORGANIZER;CN="UCP Spellenvereniging":MAILTO:info@ucpleeuwarden.nl
END:VEVENT
BEGIN:VEVENT
DTSTART;TZID=Europe/Amsterdam:20260925T140000
DTEND;TZID=Europe/Amsterdam:20260925T233000
DTSTAMP:20260419T151504
CREATED:20260117T224614Z
LAST-MODIFIED:20260120T120555Z
UID:1793-1790344800-1790379000@www.buurthuisrengerspark.nl
SUMMARY:UCP Spellen vereniging
DESCRIPTION:Elke vrijdag avond is er spellenavond! \nNatuurlijk zijn er volop bordspellen te spelen en daarnaast zijn vrijwel alle spelgroepen vertegenwoordigd en is er van alles te spelen!
URL:https://www.buurthuisrengerspark.nl/event/ucp-spellen-vereniging-53/
LOCATION:Buurthuis Rengerspark\, Singelstraat 22\, Leeuwarden\, Friesland\, 8917BK\, Netherlands
CATEGORIES:UCP Spellenvereniging
ATTACH;FMTTYPE=image/jpeg:https://www.buurthuisrengerspark.nl/wp-content/uploads/2025/06/ucp_leeuwarden.jpg
ORGANIZER;CN="UCP Spellenvereniging":MAILTO:info@ucpleeuwarden.nl
END:VEVENT
BEGIN:VEVENT
DTSTART;TZID=Europe/Amsterdam:20261002T140000
DTEND;TZID=Europe/Amsterdam:20261002T233000
DTSTAMP:20260419T151504
CREATED:20260117T224145Z
LAST-MODIFIED:20260120T120652Z
UID:1787-1790949600-1790983800@www.buurthuisrengerspark.nl
SUMMARY:UCP Spellen vereniging
DESCRIPTION:Elke vrijdag avond is er spellenavond! \nNatuurlijk zijn er volop bordspellen te spelen en daarnaast zijn vrijwel alle spelgroepen vertegenwoordigd en is er van alles te spelen!
URL:https://www.buurthuisrengerspark.nl/event/ucp-spellen-vereniging-50/
LOCATION:Buurthuis Rengerspark\, Singelstraat 22\, Leeuwarden\, Friesland\, 8917BK\, Netherlands
CATEGORIES:UCP Spellenvereniging
ATTACH;FMTTYPE=image/jpeg:https://www.buurthuisrengerspark.nl/wp-content/uploads/2025/06/ucp_leeuwarden.jpg
ORGANIZER;CN="UCP Spellenvereniging":MAILTO:info@ucpleeuwarden.nl
END:VEVENT
BEGIN:VEVENT
DTSTART;TZID=Europe/Amsterdam:20261009T140000
DTEND;TZID=Europe/Amsterdam:20261009T233000
DTSTAMP:20260419T151504
CREATED:20260117T224739Z
LAST-MODIFIED:20260120T120946Z
UID:1795-1791554400-1791588600@www.buurthuisrengerspark.nl
SUMMARY:UCP Spellen vereniging
DESCRIPTION:Elke vrijdag avond is er spellenavond! \nNatuurlijk zijn er volop bordspellen te spelen en daarnaast zijn vrijwel alle spelgroepen vertegenwoordigd en is er van alles te spelen!
URL:https://www.buurthuisrengerspark.nl/event/ucp-spellen-vereniging-54/
LOCATION:Buurthuis Rengerspark\, Singelstraat 22\, Leeuwarden\, Friesland\, 8917BK\, Netherlands
CATEGORIES:UCP Spellenvereniging
ATTACH;FMTTYPE=image/jpeg:https://www.buurthuisrengerspark.nl/wp-content/uploads/2025/06/ucp_leeuwarden.jpg
ORGANIZER;CN="UCP Spellenvereniging":MAILTO:info@ucpleeuwarden.nl
END:VEVENT
BEGIN:VEVENT
DTSTART;TZID=Europe/Amsterdam:20261010T120000
DTEND;TZID=Europe/Amsterdam:20261010T170000
DTSTAMP:20260419T151504
CREATED:20260117T195930Z
LAST-MODIFIED:20260130T202603Z
UID:1705-1791633600-1791651600@www.buurthuisrengerspark.nl
SUMMARY:UCP Spelmiddag
DESCRIPTION:De UCP Zaterdagmiddag Spelmiddag.\nVandaag worden de volgende spellen gespeeld:\nLocarna\, Miniature Wargames en Pokemon.
URL:https://www.buurthuisrengerspark.nl/event/ucp-spelmiddag-11/
LOCATION:Buurthuis Rengerspark\, Singelstraat 22\, Leeuwarden\, Friesland\, 8917BK\, Netherlands
CATEGORIES:UCP Spellenvereniging
ATTACH;FMTTYPE=image/jpeg:https://www.buurthuisrengerspark.nl/wp-content/uploads/2025/06/ucp_leeuwarden.jpg
ORGANIZER;CN="UCP Spellenvereniging":MAILTO:info@ucpleeuwarden.nl
END:VEVENT
BEGIN:VEVENT
DTSTART;TZID=Europe/Amsterdam:20261016T140000
DTEND;TZID=Europe/Amsterdam:20261016T233000
DTSTAMP:20260419T151504
CREATED:20260117T224856Z
LAST-MODIFIED:20260120T121206Z
UID:1797-1792159200-1792193400@www.buurthuisrengerspark.nl
SUMMARY:UCP Spellen vereniging
DESCRIPTION:Elke vrijdag avond is er spellenavond! \nNatuurlijk zijn er volop bordspellen te spelen en daarnaast zijn vrijwel alle spelgroepen vertegenwoordigd en is er van alles te spelen!
URL:https://www.buurthuisrengerspark.nl/event/ucp-spellen-vereniging-55/
LOCATION:Buurthuis Rengerspark\, Singelstraat 22\, Leeuwarden\, Friesland\, 8917BK\, Netherlands
CATEGORIES:UCP Spellenvereniging
ATTACH;FMTTYPE=image/jpeg:https://www.buurthuisrengerspark.nl/wp-content/uploads/2025/06/ucp_leeuwarden.jpg
ORGANIZER;CN="UCP Spellenvereniging":MAILTO:info@ucpleeuwarden.nl
END:VEVENT
BEGIN:VEVENT
DTSTART;TZID=Europe/Amsterdam:20261018T120000
DTEND;TZID=Europe/Amsterdam:20261018T170000
DTSTAMP:20260419T151504
CREATED:20260130T220041Z
LAST-MODIFIED:20260130T220041Z
UID:2110-1792324800-1792342800@www.buurthuisrengerspark.nl
SUMMARY:De UCP Zondagmiddag Spelmiddag.
DESCRIPTION:De UCP Zondagmiddag Spelmiddag.\nVandaag worden de volgende spellen gespeeld:\nLocarna\, Miniature Wargames en Pokemon.
URL:https://www.buurthuisrengerspark.nl/event/de-ucp-zondagmiddag-spelmiddag-8/
LOCATION:Buurthuis Rengerspark\, Singelstraat 22\, Leeuwarden\, Friesland\, 8917BK\, Netherlands
CATEGORIES:UCP Spellenvereniging
ATTACH;FMTTYPE=image/jpeg:https://www.buurthuisrengerspark.nl/wp-content/uploads/2025/06/ucp_leeuwarden.jpg
ORGANIZER;CN="UCP Spellenvereniging":MAILTO:info@ucpleeuwarden.nl
END:VEVENT
BEGIN:VEVENT
DTSTART;TZID=Europe/Amsterdam:20261023T140000
DTEND;TZID=Europe/Amsterdam:20261023T233000
DTSTAMP:20260419T151504
CREATED:20260117T225013Z
LAST-MODIFIED:20260120T121235Z
UID:1799-1792764000-1792798200@www.buurthuisrengerspark.nl
SUMMARY:UCP Spellen vereniging
DESCRIPTION:Elke vrijdag avond is er spellenavond! \nNatuurlijk zijn er volop bordspellen te spelen en daarnaast zijn vrijwel alle spelgroepen vertegenwoordigd en is er van alles te spelen!
URL:https://www.buurthuisrengerspark.nl/event/ucp-spellen-vereniging-56/
LOCATION:Buurthuis Rengerspark\, Singelstraat 22\, Leeuwarden\, Friesland\, 8917BK\, Netherlands
CATEGORIES:UCP Spellenvereniging
ATTACH;FMTTYPE=image/jpeg:https://www.buurthuisrengerspark.nl/wp-content/uploads/2025/06/ucp_leeuwarden.jpg
ORGANIZER;CN="UCP Spellenvereniging":MAILTO:info@ucpleeuwarden.nl
END:VEVENT
BEGIN:VEVENT
DTSTART;TZID=Europe/Amsterdam:20261030T140000
DTEND;TZID=Europe/Amsterdam:20261030T233000
DTSTAMP:20260419T151504
CREATED:20260117T225141Z
LAST-MODIFIED:20260120T121334Z
UID:1801-1793368800-1793403000@www.buurthuisrengerspark.nl
SUMMARY:UCP Spellen vereniging
DESCRIPTION:Elke vrijdag avond is er spellenavond! \nNatuurlijk zijn er volop bordspellen te spelen en daarnaast zijn vrijwel alle spelgroepen vertegenwoordigd en is er van alles te spelen!
URL:https://www.buurthuisrengerspark.nl/event/ucp-spellen-vereniging-57/
LOCATION:Buurthuis Rengerspark\, Singelstraat 22\, Leeuwarden\, Friesland\, 8917BK\, Netherlands
CATEGORIES:UCP Spellenvereniging
ATTACH;FMTTYPE=image/jpeg:https://www.buurthuisrengerspark.nl/wp-content/uploads/2025/06/ucp_leeuwarden.jpg
ORGANIZER;CN="UCP Spellenvereniging":MAILTO:info@ucpleeuwarden.nl
END:VEVENT
BEGIN:VEVENT
DTSTART;TZID=Europe/Amsterdam:20261106T140000
DTEND;TZID=Europe/Amsterdam:20261106T233000
DTSTAMP:20260419T151504
CREATED:20260117T225312Z
LAST-MODIFIED:20260120T121500Z
UID:1803-1793973600-1794007800@www.buurthuisrengerspark.nl
SUMMARY:UCP Spellen vereniging
DESCRIPTION:Elke vrijdag avond is er spellenavond! \nNatuurlijk zijn er volop bordspellen te spelen en daarnaast zijn vrijwel alle spelgroepen vertegenwoordigd en is er van alles te spelen!
URL:https://www.buurthuisrengerspark.nl/event/ucp-spellen-vereniging-58/
LOCATION:Buurthuis Rengerspark\, Singelstraat 22\, Leeuwarden\, Friesland\, 8917BK\, Netherlands
CATEGORIES:UCP Spellenvereniging
ATTACH;FMTTYPE=image/jpeg:https://www.buurthuisrengerspark.nl/wp-content/uploads/2025/06/ucp_leeuwarden.jpg
ORGANIZER;CN="UCP Spellenvereniging":MAILTO:info@ucpleeuwarden.nl
END:VEVENT
BEGIN:VEVENT
DTSTART;TZID=Europe/Amsterdam:20261113T140000
DTEND;TZID=Europe/Amsterdam:20261113T233000
DTSTAMP:20260419T151504
CREATED:20260117T225458Z
LAST-MODIFIED:20260120T121739Z
UID:1805-1794578400-1794612600@www.buurthuisrengerspark.nl
SUMMARY:UCP Spellen vereniging
DESCRIPTION:Elke vrijdag avond is er spellenavond! \nNatuurlijk zijn er volop bordspellen te spelen en daarnaast zijn vrijwel alle spelgroepen vertegenwoordigd en is er van alles te spelen!
URL:https://www.buurthuisrengerspark.nl/event/ucp-spellen-vereniging-59/
LOCATION:Buurthuis Rengerspark\, Singelstraat 22\, Leeuwarden\, Friesland\, 8917BK\, Netherlands
CATEGORIES:UCP Spellenvereniging
ATTACH;FMTTYPE=image/jpeg:https://www.buurthuisrengerspark.nl/wp-content/uploads/2025/06/ucp_leeuwarden.jpg
ORGANIZER;CN="UCP Spellenvereniging":MAILTO:info@ucpleeuwarden.nl
END:VEVENT
BEGIN:VEVENT
DTSTART;TZID=Europe/Amsterdam:20261114T120000
DTEND;TZID=Europe/Amsterdam:20261114T170000
DTSTAMP:20260419T151504
CREATED:20260117T200036Z
LAST-MODIFIED:20260130T202326Z
UID:1707-1794657600-1794675600@www.buurthuisrengerspark.nl
SUMMARY:UCP Spelmiddag
DESCRIPTION:De UCP Zaterdagmiddag Spelmiddag.\nVandaag worden de volgende spellen gespeeld:\nLocarna\, Miniature Wargames en Pokemon.
URL:https://www.buurthuisrengerspark.nl/event/ucp-spelmiddag-12/
LOCATION:Buurthuis Rengerspark\, Singelstraat 22\, Leeuwarden\, Friesland\, 8917BK\, Netherlands
CATEGORIES:UCP Spellenvereniging
ATTACH;FMTTYPE=image/jpeg:https://www.buurthuisrengerspark.nl/wp-content/uploads/2025/06/ucp_leeuwarden.jpg
ORGANIZER;CN="UCP Spellenvereniging":MAILTO:info@ucpleeuwarden.nl
END:VEVENT
BEGIN:VEVENT
DTSTART;TZID=Europe/Amsterdam:20261115T120000
DTEND;TZID=Europe/Amsterdam:20261115T170000
DTSTAMP:20260419T151504
CREATED:20260130T220529Z
LAST-MODIFIED:20260130T220529Z
UID:2113-1794744000-1794762000@www.buurthuisrengerspark.nl
SUMMARY:De UCP Zondagmiddag Spelmiddag.
DESCRIPTION:De UCP Zondagmiddag Spelmiddag.\nVandaag worden de volgende spellen gespeeld:\nLocarna\, Miniature Wargames en Pokemon.
URL:https://www.buurthuisrengerspark.nl/event/de-ucp-zondagmiddag-spelmiddag-9/
LOCATION:Buurthuis Rengerspark\, Singelstraat 22\, Leeuwarden\, Friesland\, 8917BK\, Netherlands
CATEGORIES:UCP Spellenvereniging
ATTACH;FMTTYPE=image/jpeg:https://www.buurthuisrengerspark.nl/wp-content/uploads/2025/06/ucp_leeuwarden.jpg
ORGANIZER;CN="UCP Spellenvereniging":MAILTO:info@ucpleeuwarden.nl
END:VEVENT
BEGIN:VEVENT
DTSTART;TZID=Europe/Amsterdam:20261120T140000
DTEND;TZID=Europe/Amsterdam:20261120T233000
DTSTAMP:20260419T151504
CREATED:20260117T225629Z
LAST-MODIFIED:20260120T121827Z
UID:1807-1795183200-1795217400@www.buurthuisrengerspark.nl
SUMMARY:UCP Spellen vereniging
DESCRIPTION:Elke vrijdag avond is er spellenavond! \nNatuurlijk zijn er volop bordspellen te spelen en daarnaast zijn vrijwel alle spelgroepen vertegenwoordigd en is er van alles te spelen!
URL:https://www.buurthuisrengerspark.nl/event/ucp-spellen-vereniging-60/
LOCATION:Buurthuis Rengerspark\, Singelstraat 22\, Leeuwarden\, Friesland\, 8917BK\, Netherlands
CATEGORIES:UCP Spellenvereniging
ATTACH;FMTTYPE=image/jpeg:https://www.buurthuisrengerspark.nl/wp-content/uploads/2025/06/ucp_leeuwarden.jpg
ORGANIZER;CN="UCP Spellenvereniging":MAILTO:info@ucpleeuwarden.nl
END:VEVENT
BEGIN:VEVENT
DTSTART;TZID=Europe/Amsterdam:20261127T140000
DTEND;TZID=Europe/Amsterdam:20261127T233000
DTSTAMP:20260419T151504
CREATED:20260117T225750Z
LAST-MODIFIED:20260120T121931Z
UID:1809-1795788000-1795822200@www.buurthuisrengerspark.nl
SUMMARY:UCP Spellen vereniging
DESCRIPTION:Elke vrijdag avond is er spellenavond! \nNatuurlijk zijn er volop bordspellen te spelen en daarnaast zijn vrijwel alle spelgroepen vertegenwoordigd en is er van alles te spelen!
URL:https://www.buurthuisrengerspark.nl/event/ucp-spellen-vereniging-61/
LOCATION:Buurthuis Rengerspark\, Singelstraat 22\, Leeuwarden\, Friesland\, 8917BK\, Netherlands
CATEGORIES:UCP Spellenvereniging
ATTACH;FMTTYPE=image/jpeg:https://www.buurthuisrengerspark.nl/wp-content/uploads/2025/06/ucp_leeuwarden.jpg
ORGANIZER;CN="UCP Spellenvereniging":MAILTO:info@ucpleeuwarden.nl
END:VEVENT
BEGIN:VEVENT
DTSTART;TZID=Europe/Amsterdam:20261204T140000
DTEND;TZID=Europe/Amsterdam:20261204T233000
DTSTAMP:20260419T151504
CREATED:20260117T225900Z
LAST-MODIFIED:20260120T122012Z
UID:1811-1796392800-1796427000@www.buurthuisrengerspark.nl
SUMMARY:UCP Spellen vereniging
DESCRIPTION:Elke vrijdag avond is er spellenavond! \nNatuurlijk zijn er volop bordspellen te spelen en daarnaast zijn vrijwel alle spelgroepen vertegenwoordigd en is er van alles te spelen!
URL:https://www.buurthuisrengerspark.nl/event/ucp-spellen-vereniging-62/
LOCATION:Buurthuis Rengerspark\, Singelstraat 22\, Leeuwarden\, Friesland\, 8917BK\, Netherlands
CATEGORIES:UCP Spellenvereniging
ATTACH;FMTTYPE=image/jpeg:https://www.buurthuisrengerspark.nl/wp-content/uploads/2025/06/ucp_leeuwarden.jpg
ORGANIZER;CN="UCP Spellenvereniging":MAILTO:info@ucpleeuwarden.nl
END:VEVENT
BEGIN:VEVENT
DTSTART;TZID=Europe/Amsterdam:20261211T140000
DTEND;TZID=Europe/Amsterdam:20261211T233000
DTSTAMP:20260419T151504
CREATED:20260117T230043Z
LAST-MODIFIED:20260120T122148Z
UID:1813-1796997600-1797031800@www.buurthuisrengerspark.nl
SUMMARY:UCP Spellen vereniging
DESCRIPTION:Elke vrijdag avond is er spellenavond! \nNatuurlijk zijn er volop bordspellen te spelen en daarnaast zijn vrijwel alle spelgroepen vertegenwoordigd en is er van alles te spelen!
URL:https://www.buurthuisrengerspark.nl/event/ucp-spellen-vereniging-63/
LOCATION:Buurthuis Rengerspark\, Singelstraat 22\, Leeuwarden\, Friesland\, 8917BK\, Netherlands
CATEGORIES:UCP Spellenvereniging
ATTACH;FMTTYPE=image/jpeg:https://www.buurthuisrengerspark.nl/wp-content/uploads/2025/06/ucp_leeuwarden.jpg
ORGANIZER;CN="UCP Spellenvereniging":MAILTO:info@ucpleeuwarden.nl
END:VEVENT
BEGIN:VEVENT
DTSTART;TZID=Europe/Amsterdam:20261212T120000
DTEND;TZID=Europe/Amsterdam:20261212T170000
DTSTAMP:20260419T151504
CREATED:20260117T200155Z
LAST-MODIFIED:20260130T202458Z
UID:1709-1797076800-1797094800@www.buurthuisrengerspark.nl
SUMMARY:UCP Spelmiddag
DESCRIPTION:De UCP Zaterdagmiddag Spelmiddag.\nVandaag worden de volgende spellen gespeeld:\nLocarna\, Miniature Wargames en Pokemon.
URL:https://www.buurthuisrengerspark.nl/event/ucp-spelmiddag-13/
LOCATION:Buurthuis Rengerspark\, Singelstraat 22\, Leeuwarden\, Friesland\, 8917BK\, Netherlands
CATEGORIES:UCP Spellenvereniging
ATTACH;FMTTYPE=image/jpeg:https://www.buurthuisrengerspark.nl/wp-content/uploads/2025/06/ucp_leeuwarden.jpg
ORGANIZER;CN="UCP Spellenvereniging":MAILTO:info@ucpleeuwarden.nl
END:VEVENT
BEGIN:VEVENT
DTSTART;TZID=Europe/Amsterdam:20261218T140000
DTEND;TZID=Europe/Amsterdam:20261218T233000
DTSTAMP:20260419T151504
CREATED:20260117T230208Z
LAST-MODIFIED:20260120T122221Z
UID:1815-1797602400-1797636600@www.buurthuisrengerspark.nl
SUMMARY:UCP Spellen vereniging
DESCRIPTION:Elke vrijdag avond is er spellenavond! \nNatuurlijk zijn er volop bordspellen te spelen en daarnaast zijn vrijwel alle spelgroepen vertegenwoordigd en is er van alles te spelen!
URL:https://www.buurthuisrengerspark.nl/event/ucp-spellen-vereniging-64/
LOCATION:Buurthuis Rengerspark\, Singelstraat 22\, Leeuwarden\, Friesland\, 8917BK\, Netherlands
CATEGORIES:UCP Spellenvereniging
ATTACH;FMTTYPE=image/jpeg:https://www.buurthuisrengerspark.nl/wp-content/uploads/2025/06/ucp_leeuwarden.jpg
ORGANIZER;CN="UCP Spellenvereniging":MAILTO:info@ucpleeuwarden.nl
END:VEVENT
END:VCALENDAR