BEGIN:VCALENDAR
VERSION:2.0
PRODID:-// - ECPv6.15.19//NONSGML v1.0//EN
CALSCALE:GREGORIAN
METHOD:PUBLISH
X-ORIGINAL-URL:https://www.buurthuisrengerspark.nl
X-WR-CALDESC:Evenementen voor 
REFRESH-INTERVAL;VALUE=DURATION:PT1H
X-Robots-Tag:noindex
X-PUBLISHED-TTL:PT1H
BEGIN:VTIMEZONE
TZID:Europe/Amsterdam
BEGIN:DAYLIGHT
TZOFFSETFROM:+0100
TZOFFSETTO:+0200
TZNAME:CEST
DTSTART:20240331T010000
END:DAYLIGHT
BEGIN:STANDARD
TZOFFSETFROM:+0200
TZOFFSETTO:+0100
TZNAME:CET
DTSTART:20241027T010000
END:STANDARD
BEGIN:DAYLIGHT
TZOFFSETFROM:+0100
TZOFFSETTO:+0200
TZNAME:CEST
DTSTART:20250330T010000
END:DAYLIGHT
BEGIN:STANDARD
TZOFFSETFROM:+0200
TZOFFSETTO:+0100
TZNAME:CET
DTSTART:20251026T010000
END:STANDARD
BEGIN:DAYLIGHT
TZOFFSETFROM:+0100
TZOFFSETTO:+0200
TZNAME:CEST
DTSTART:20260329T010000
END:DAYLIGHT
BEGIN:STANDARD
TZOFFSETFROM:+0200
TZOFFSETTO:+0100
TZNAME:CET
DTSTART:20261025T010000
END:STANDARD
BEGIN:DAYLIGHT
TZOFFSETFROM:+0100
TZOFFSETTO:+0200
TZNAME:CEST
DTSTART:20270328T010000
END:DAYLIGHT
BEGIN:STANDARD
TZOFFSETFROM:+0200
TZOFFSETTO:+0100
TZNAME:CET
DTSTART:20271031T010000
END:STANDARD
END:VTIMEZONE
BEGIN:VEVENT
DTSTART;TZID=Europe/Amsterdam:20260417T110000
DTEND;TZID=Europe/Amsterdam:20260417T130000
DTSTAMP:20260419T220525
CREATED:20260119T132739Z
LAST-MODIFIED:20260120T093929Z
UID:1943-1776423600-1776430800@www.buurthuisrengerspark.nl
SUMMARY:De Warme Buurthuiskamer
DESCRIPTION:één keer per 14 dagen op vrijdag van 11:00u.  tot 13:00u.\nIn 2026 de volgende dagen:\n9 januari\, 23 januari\, 6 februari\, 20 februari\, 6 maart\, 20 maart\, 3 april\, 17 april\, 8 mei\, 22 mei\, 5 juni\, 19 juni\, 3 juli\, 17 juli. \nWe bieden een gezellige warme omgeving waar je van harte welkom bent.\nVoor een kopje koffie/thee\, een luisterend oor. En als je trek (en tijd hebt) een kom soep met iets erbij.\nWe doen vaak samen een spelletje en je kunt je vrijblijvend aansluiten bij uitjes. Wij vragen een vrijwillige bijdrage.\nLoop gerust eens binnen! \nIn 2026 de volgende dagen:\n9 januari\, 23 januari\, 6 februari\, 20 februari\, 6 maart\, 20 maart\, 3 april\, 17 april\, 8 mei\, 22 mei\, 5 juni\, 19 juni\, 3 juli\, 17 juli.
URL:https://www.buurthuisrengerspark.nl/event/de-warme-buurthuiskamer-13/
LOCATION:Buurthuis Rengerspark\, Singelstraat 22\, Leeuwarden\, Friesland\, 8917BK\, Netherlands
CATEGORIES:Buurthuis Rengerspark
ATTACH;FMTTYPE=image/png:https://www.buurthuisrengerspark.nl/wp-content/uploads/2025/09/Warme-Buurthuiskamer.png
ORGANIZER;CN="Buurthuis Rengerspark":MAILTO:het.mtv.wijkfeest@gmail.com
END:VEVENT
BEGIN:VEVENT
DTSTART;TZID=Europe/Amsterdam:20260403T110000
DTEND;TZID=Europe/Amsterdam:20260403T130000
DTSTAMP:20260419T220525
CREATED:20260119T132528Z
LAST-MODIFIED:20260120T091739Z
UID:1941-1775214000-1775221200@www.buurthuisrengerspark.nl
SUMMARY:De Warme Buurthuiskamer
DESCRIPTION:één keer per 14 dagen op vrijdag van 11:00u.  tot 13:00u.\nIn 2026 de volgende dagen:\n9 januari\, 23 januari\, 6 februari\, 20 februari\, 6 maart\, 20 maart\, 3 april\, 17 april\, 8 mei\, 22 mei\, 5 juni\, 19 juni\, 3 juli\, 17 juli. \nWe bieden een gezellige warme omgeving waar je van harte welkom bent.\nVoor een kopje koffie/thee\, een luisterend oor. En als je trek (en tijd hebt) een kom soep met iets erbij.\nWe doen vaak samen een spelletje en je kunt je vrijblijvend aansluiten bij uitjes. Wij vragen een vrijwillige bijdrage.\nLoop gerust eens binnen! \nIn 2026 de volgende dagen:\n9 januari\, 23 januari\, 6 februari\, 20 februari\, 6 maart\, 20 maart\, 3 april\, 17 april\, 8 mei\, 22 mei\, 5 juni\, 19 juni\, 3 juli\, 17 juli.
URL:https://www.buurthuisrengerspark.nl/event/de-warme-buurthuiskamer-12/
LOCATION:Buurthuis Rengerspark\, Singelstraat 22\, Leeuwarden\, Friesland\, 8917BK\, Netherlands
CATEGORIES:Buurthuis Rengerspark
ATTACH;FMTTYPE=image/png:https://www.buurthuisrengerspark.nl/wp-content/uploads/2025/09/Warme-Buurthuiskamer.png
ORGANIZER;CN="Buurthuis Rengerspark":MAILTO:het.mtv.wijkfeest@gmail.com
END:VEVENT
BEGIN:VEVENT
DTSTART;TZID=Europe/Amsterdam:20260320T110000
DTEND;TZID=Europe/Amsterdam:20260320T130000
DTSTAMP:20260419T220525
CREATED:20260119T132443Z
LAST-MODIFIED:20260120T091021Z
UID:1939-1774004400-1774011600@www.buurthuisrengerspark.nl
SUMMARY:De Warme Buurthuiskamer
DESCRIPTION:één keer per 14 dagen op vrijdag van 11:00u.  tot 13:00u.\nIn 2026 de volgende dagen:\n9 januari\, 23 januari\, 6 februari\, 20 februari\, 6 maart\, 20 maart\, 3 april\, 17 april\, 8 mei\, 22 mei\, 5 juni\, 19 juni\, 3 juli\, 17 juli. \nWe bieden een gezellige warme omgeving waar je van harte welkom bent.\nVoor een kopje koffie/thee\, een luisterend oor. En als je trek (en tijd hebt) een kom soep met iets erbij.\nWe doen vaak samen een spelletje en je kunt je vrijblijvend aansluiten bij uitjes. Wij vragen een vrijwillige bijdrage.\nLoop gerust eens binnen! \nIn 2026 de volgende dagen:\n9 januari\, 23 januari\, 6 februari\, 20 februari\, 6 maart\, 20 maart\, 3 april\, 17 april\, 8 mei\, 22 mei\, 5 juni\, 19 juni\, 3 juli\, 17 juli.
URL:https://www.buurthuisrengerspark.nl/event/de-warme-buurthuiskamer-11/
LOCATION:Buurthuis Rengerspark\, Singelstraat 22\, Leeuwarden\, Friesland\, 8917BK\, Netherlands
CATEGORIES:Buurthuis Rengerspark
ATTACH;FMTTYPE=image/png:https://www.buurthuisrengerspark.nl/wp-content/uploads/2025/09/Warme-Buurthuiskamer.png
ORGANIZER;CN="Buurthuis Rengerspark":MAILTO:het.mtv.wijkfeest@gmail.com
END:VEVENT
BEGIN:VEVENT
DTSTART;TZID=Europe/Amsterdam:20260306T110000
DTEND;TZID=Europe/Amsterdam:20260306T130000
DTSTAMP:20260419T220525
CREATED:20260119T132308Z
LAST-MODIFIED:20260120T090614Z
UID:1937-1772794800-1772802000@www.buurthuisrengerspark.nl
SUMMARY:De Warme Buurthuiskamer
DESCRIPTION:één keer per 14 dagen op vrijdag van 11:00u.  tot 13:00u.\nIn 2026 de volgende dagen:\n9 januari\, 23 januari\, 6 februari\, 20 februari\, 6 maart\, 20 maart\, 3 april\, 17 april\, 8 mei\, 22 mei\, 5 juni\, 19 juni\, 3 juli\, 17 juli. \nWe bieden een gezellige warme omgeving waar je van harte welkom bent.\nVoor een kopje koffie/thee\, een luisterend oor. En als je trek (en tijd hebt) een kom soep met iets erbij.\nWe doen vaak samen een spelletje en je kunt je vrijblijvend aansluiten bij uitjes. Wij vragen een vrijwillige bijdrage.\nLoop gerust eens binnen! \nIn 2026 de volgende dagen:\n9 januari\, 23 januari\, 6 februari\, 20 februari\, 6 maart\, 20 maart\, 3 april\, 17 april\, 8 mei\, 22 mei\, 5 juni\, 19 juni\, 3 juli\, 17 juli.
URL:https://www.buurthuisrengerspark.nl/event/de-warme-buurthuiskamer-10/
LOCATION:Buurthuis Rengerspark\, Singelstraat 22\, Leeuwarden\, Friesland\, 8917BK\, Netherlands
CATEGORIES:Buurthuis Rengerspark
ATTACH;FMTTYPE=image/png:https://www.buurthuisrengerspark.nl/wp-content/uploads/2025/09/Warme-Buurthuiskamer.png
ORGANIZER;CN="Buurthuis Rengerspark":MAILTO:het.mtv.wijkfeest@gmail.com
END:VEVENT
BEGIN:VEVENT
DTSTART;TZID=Europe/Amsterdam:20260220T110000
DTEND;TZID=Europe/Amsterdam:20260220T130000
DTSTAMP:20260419T220525
CREATED:20260119T132154Z
LAST-MODIFIED:20260120T090118Z
UID:1935-1771585200-1771592400@www.buurthuisrengerspark.nl
SUMMARY:De Warme Buurthuiskamer
DESCRIPTION:één keer per 14 dagen op vrijdag van 11:00u.  tot 13:00u.\nIn 2026 de volgende dagen:\n9 januari\, 23 januari\, 6 februari\, 20 februari\, 6 maart\, 20 maart\, 3 april\, 17 april\, 8 mei\, 22 mei\, 5 juni\, 19 juni\, 3 juli\, 17 juli. \nWe bieden een gezellige warme omgeving waar je van harte welkom bent.\nVoor een kopje koffie/thee\, een luisterend oor. En als je trek (en tijd hebt) een kom soep met iets erbij.\nWe doen vaak samen een spelletje en je kunt je vrijblijvend aansluiten bij uitjes. Wij vragen een vrijwillige bijdrage.\nLoop gerust eens binnen! \nIn 2026 de volgende dagen:\n9 januari\, 23 januari\, 6 februari\, 20 februari\, 6 maart\, 20 maart\, 3 april\, 17 april\, 8 mei\, 22 mei\, 5 juni\, 19 juni\, 3 juli\, 17 juli.
URL:https://www.buurthuisrengerspark.nl/event/de-warme-buurthuiskamer-9/
LOCATION:Buurthuis Rengerspark\, Singelstraat 22\, Leeuwarden\, Friesland\, 8917BK\, Netherlands
CATEGORIES:Buurthuis Rengerspark
ATTACH;FMTTYPE=image/png:https://www.buurthuisrengerspark.nl/wp-content/uploads/2025/09/Warme-Buurthuiskamer.png
ORGANIZER;CN="Buurthuis Rengerspark":MAILTO:het.mtv.wijkfeest@gmail.com
END:VEVENT
BEGIN:VEVENT
DTSTART;TZID=Europe/Amsterdam:20260206T110000
DTEND;TZID=Europe/Amsterdam:20260206T130000
DTSTAMP:20260419T220525
CREATED:20260119T131858Z
LAST-MODIFIED:20260119T225954Z
UID:1933-1770375600-1770382800@www.buurthuisrengerspark.nl
SUMMARY:De Warme Buurthuiskamer
DESCRIPTION:één keer per 14 dagen op vrijdag van 11:00u.  tot 13:00u.\nIn 2026 de volgende dagen:\n9 januari\, 23 januari\, 6 februari\, 20 februari\, 6 maart\, 20 maart\, 3 april\, 17 april\, 8 mei\, 22 mei\, 5 juni\, 19 juni\, 3 juli\, 17 juli. \nWe bieden een gezellige warme omgeving waar je van harte welkom bent.\nVoor een kopje koffie/thee\, een luisterend oor. En als je trek (en tijd hebt) een kom soep met iets erbij.\nWe doen vaak samen een spelletje en je kunt je vrijblijvend aansluiten bij uitjes. Wij vragen een vrijwillige bijdrage.\nLoop gerust eens binnen! \nIn 2026 de volgende dagen:\n9 januari\, 23 januari\, 6 februari\, 20 februari\, 6 maart\, 20 maart\, 3 april\, 17 april\, 8 mei\, 22 mei\, 5 juni\, 19 juni\, 3 juli\, 17 juli.
URL:https://www.buurthuisrengerspark.nl/event/de-warme-buurthuiskamer-8/
LOCATION:Buurthuis Rengerspark\, Singelstraat 22\, Leeuwarden\, Friesland\, 8917BK\, Netherlands
CATEGORIES:Buurthuis Rengerspark
ATTACH;FMTTYPE=image/png:https://www.buurthuisrengerspark.nl/wp-content/uploads/2025/09/Warme-Buurthuiskamer.png
ORGANIZER;CN="Buurthuis Rengerspark":MAILTO:het.mtv.wijkfeest@gmail.com
END:VEVENT
BEGIN:VEVENT
DTSTART;TZID=Europe/Amsterdam:20260123T110000
DTEND;TZID=Europe/Amsterdam:20260123T130000
DTSTAMP:20260419T220525
CREATED:20260119T131641Z
LAST-MODIFIED:20260119T215232Z
UID:1931-1769166000-1769173200@www.buurthuisrengerspark.nl
SUMMARY:De Warme Buurthuiskamer
DESCRIPTION:één keer per 14 dagen op vrijdag van 11:00u.  tot 13:00u.\nIn 2026 de volgende dagen:\n9 januari\, 23 januari\, 6 februari\, 20 februari\, 6 maart\, 20 maart\, 3 april\, 17 april\, 8 mei\, 22 mei\, 5 juni\, 19 juni\, 3 juli\, 17 juli. \nWe bieden een gezellige warme omgeving waar je van harte welkom bent.\nVoor een kopje koffie/thee\, een luisterend oor. En als je trek (en tijd hebt) een kom soep met iets erbij.\nWe doen vaak samen een spelletje en je kunt je vrijblijvend aansluiten bij uitjes. Wij vragen een vrijwillige bijdrage.\nLoop gerust eens binnen! \nIn 2026 de volgende dagen:\n9 januari\, 23 januari\, 6 februari\, 20 februari\, 6 maart\, 20 maart\, 3 april\, 17 april\, 8 mei\, 22 mei\, 5 juni\, 19 juni\, 3 juli\, 17 juli.
URL:https://www.buurthuisrengerspark.nl/event/de-warme-buurthuiskamer-7/
LOCATION:Buurthuis Rengerspark\, Singelstraat 22\, Leeuwarden\, Friesland\, 8917BK\, Netherlands
CATEGORIES:Buurthuis Rengerspark
ATTACH;FMTTYPE=image/png:https://www.buurthuisrengerspark.nl/wp-content/uploads/2025/09/Warme-Buurthuiskamer.png
ORGANIZER;CN="Buurthuis Rengerspark":MAILTO:het.mtv.wijkfeest@gmail.com
END:VEVENT
BEGIN:VEVENT
DTSTART;TZID=Europe/Amsterdam:20251212T103000
DTEND;TZID=Europe/Amsterdam:20251212T130000
DTSTAMP:20260419T220525
CREATED:20250919T211603Z
LAST-MODIFIED:20250919T211603Z
UID:1352-1765535400-1765544400@www.buurthuisrengerspark.nl
SUMMARY:De Warme Buurthuiskamer
DESCRIPTION:één keer per 14 dagen op vrijdag van 11:00u.  tot 13:00u.\n12 december 2025\, de laatste van het jaar 2025.\nWe bieden een gezellige warme omgeving waar je van harte welkom bent.\nVoor een kopje koffie/thee\, een luisterend oor. En als je trek (en tijd hebt) een kom soep met iets erbij.\nWe doen vaak samen een spelletje en je kunt je vrijblijvend aansluiten bij uitjes. Wij vragen een vrijwillige bijdrage.\nLoop gerust eens binnen!
URL:https://www.buurthuisrengerspark.nl/event/de-warme-buurthuiskamer-6/
LOCATION:Buurthuis Rengerspark\, Singelstraat 22\, Leeuwarden\, Friesland\, 8917BK\, Netherlands
CATEGORIES:Buurthuis Rengerspark
ATTACH;FMTTYPE=image/png:https://www.buurthuisrengerspark.nl/wp-content/uploads/2025/09/Warme-Buurthuiskamer.png
ORGANIZER;CN="Buurthuis Rengerspark":MAILTO:het.mtv.wijkfeest@gmail.com
END:VEVENT
BEGIN:VEVENT
DTSTART;TZID=Europe/Amsterdam:20251128T103000
DTEND;TZID=Europe/Amsterdam:20251128T130000
DTSTAMP:20260419T220525
CREATED:20250919T211429Z
LAST-MODIFIED:20250919T211429Z
UID:1350-1764325800-1764334800@www.buurthuisrengerspark.nl
SUMMARY:De Warme Buurthuiskamer
DESCRIPTION:één keer per 14 dagen op vrijdag van 11:00u.  tot 13:00u.\n28 november en 12 december 2025.\nWe bieden een gezellige warme omgeving waar je van harte welkom bent.\nVoor een kopje koffie/thee\, een luisterend oor. En als je trek (en tijd hebt) een kom soep met iets erbij.\nWe doen vaak samen een spelletje en je kunt je vrijblijvend aansluiten bij uitjes. Wij vragen een vrijwillige bijdrage.\nLoop gerust eens binnen!
URL:https://www.buurthuisrengerspark.nl/event/de-warme-buurthuiskamer-5/
LOCATION:Buurthuis Rengerspark\, Singelstraat 22\, Leeuwarden\, Friesland\, 8917BK\, Netherlands
CATEGORIES:Buurthuis Rengerspark
ATTACH;FMTTYPE=image/png:https://www.buurthuisrengerspark.nl/wp-content/uploads/2025/09/Warme-Buurthuiskamer.png
ORGANIZER;CN="Buurthuis Rengerspark":MAILTO:het.mtv.wijkfeest@gmail.com
END:VEVENT
BEGIN:VEVENT
DTSTART;TZID=Europe/Amsterdam:20251114T103000
DTEND;TZID=Europe/Amsterdam:20251114T130000
DTSTAMP:20260419T220525
CREATED:20250919T211332Z
LAST-MODIFIED:20250919T211332Z
UID:1348-1763116200-1763125200@www.buurthuisrengerspark.nl
SUMMARY:De Warme Buurthuiskamer
DESCRIPTION:één keer per 14 dagen op vrijdag van 11:00u.  tot 13:00u.\n14 november\, 28 november en 12 december 2025.\nWe bieden een gezellige warme omgeving waar je van harte welkom bent.\nVoor een kopje koffie/thee\, een luisterend oor. En als je trek (en tijd hebt) een kom soep met iets erbij.\nWe doen vaak samen een spelletje en je kunt je vrijblijvend aansluiten bij uitjes. Wij vragen een vrijwillige bijdrage.\nLoop gerust eens binnen!
URL:https://www.buurthuisrengerspark.nl/event/de-warme-buurthuiskamer-4/
LOCATION:Buurthuis Rengerspark\, Singelstraat 22\, Leeuwarden\, Friesland\, 8917BK\, Netherlands
CATEGORIES:Buurthuis Rengerspark
ATTACH;FMTTYPE=image/png:https://www.buurthuisrengerspark.nl/wp-content/uploads/2025/09/Warme-Buurthuiskamer.png
ORGANIZER;CN="Buurthuis Rengerspark":MAILTO:het.mtv.wijkfeest@gmail.com
END:VEVENT
BEGIN:VEVENT
DTSTART;TZID=Europe/Amsterdam:20251031T103000
DTEND;TZID=Europe/Amsterdam:20251031T130000
DTSTAMP:20260419T220525
CREATED:20250919T211152Z
LAST-MODIFIED:20250919T211152Z
UID:1346-1761906600-1761915600@www.buurthuisrengerspark.nl
SUMMARY:De Warme Buurthuiskamer
DESCRIPTION:één keer per 14 dagen op vrijdag van 11:00u.  tot 13:00u.\n31 oktober\, 14 november\, 28 november en 12 december 2025.\nWe bieden een gezellige warme omgeving waar je van harte welkom bent.\nVoor een kopje koffie/thee\, een luisterend oor. En als je trek (en tijd hebt) een kom soep met iets erbij.\nWe doen vaak samen een spelletje en je kunt je vrijblijvend aansluiten bij uitjes. Wij vragen een vrijwillige bijdrage.\nLoop gerust eens binnen!
URL:https://www.buurthuisrengerspark.nl/event/de-warme-buurthuiskamer-3/
LOCATION:Buurthuis Rengerspark\, Singelstraat 22\, Leeuwarden\, Friesland\, 8917BK\, Netherlands
CATEGORIES:Buurthuis Rengerspark
ATTACH;FMTTYPE=image/png:https://www.buurthuisrengerspark.nl/wp-content/uploads/2025/09/Warme-Buurthuiskamer.png
ORGANIZER;CN="Buurthuis Rengerspark":MAILTO:het.mtv.wijkfeest@gmail.com
END:VEVENT
BEGIN:VEVENT
DTSTART;TZID=Europe/Amsterdam:20251017T103000
DTEND;TZID=Europe/Amsterdam:20251017T130000
DTSTAMP:20260419T220525
CREATED:20250919T210958Z
LAST-MODIFIED:20250919T210958Z
UID:1344-1760697000-1760706000@www.buurthuisrengerspark.nl
SUMMARY:De Warme Buurthuiskamer
DESCRIPTION:één keer per 14 dagen op vrijdag van 11:00u.  tot 13:00u.\n17 oktober\, 31 oktober\, 14 november\, 28 november en 12 december 2025.\nWe bieden een gezellige warme omgeving waar je van harte welkom bent.\nVoor een kopje koffie/thee\, een luisterend oor. En als je trek (en tijd hebt) een kom soep met iets erbij.\nWe doen vaak samen een spelletje en je kunt je vrijblijvend aansluiten bij uitjes. Wij vragen een vrijwillige bijdrage.\nLoop gerust eens binnen!
URL:https://www.buurthuisrengerspark.nl/event/de-warme-buurthuiskamer-2/
LOCATION:Buurthuis Rengerspark\, Singelstraat 22\, Leeuwarden\, Friesland\, 8917BK\, Netherlands
CATEGORIES:Buurthuis Rengerspark
ATTACH;FMTTYPE=image/png:https://www.buurthuisrengerspark.nl/wp-content/uploads/2025/09/Warme-Buurthuiskamer.png
ORGANIZER;CN="Buurthuis Rengerspark":MAILTO:het.mtv.wijkfeest@gmail.com
END:VEVENT
BEGIN:VEVENT
DTSTART;TZID=Europe/Amsterdam:20251003T103000
DTEND;TZID=Europe/Amsterdam:20251003T130000
DTSTAMP:20260419T220525
CREATED:20250919T210842Z
LAST-MODIFIED:20250919T210842Z
UID:1341-1759487400-1759496400@www.buurthuisrengerspark.nl
SUMMARY:De Warme Buurthuiskamer
DESCRIPTION:één keer per 14 dagen op vrijdag van 11:00u.  tot 13:00u.\n3 oktober\, 17 oktober\, 31 oktober\, 14 november\, 28 november en 12 december 2025.\nWe bieden een gezellige warme omgeving waar je van harte welkom bent.\nVoor een kopje koffie/thee\, een luisterend oor. En als je trek (en tijd hebt) een kom soep met iets erbij.\nWe doen vaak samen een spelletje en je kunt je vrijblijvend aansluiten bij uitjes. Wij vragen een vrijwillige bijdrage.\nLoop gerust eens binnen!
URL:https://www.buurthuisrengerspark.nl/event/de-warme-buurthuiskamer/
LOCATION:Buurthuis Rengerspark\, Singelstraat 22\, Leeuwarden\, Friesland\, 8917BK\, Netherlands
CATEGORIES:Buurthuis Rengerspark
ATTACH;FMTTYPE=image/png:https://www.buurthuisrengerspark.nl/wp-content/uploads/2025/09/Warme-Buurthuiskamer.png
ORGANIZER;CN="Buurthuis Rengerspark":MAILTO:het.mtv.wijkfeest@gmail.com
END:VEVENT
END:VCALENDAR