BEGIN:VCALENDAR
VERSION:2.0
PRODID:-// - ECPv6.15.19//NONSGML v1.0//EN
CALSCALE:GREGORIAN
METHOD:PUBLISH
X-ORIGINAL-URL:https://www.buurthuisrengerspark.nl
X-WR-CALDESC:Evenementen voor 
REFRESH-INTERVAL;VALUE=DURATION:PT1H
X-Robots-Tag:noindex
X-PUBLISHED-TTL:PT1H
BEGIN:VTIMEZONE
TZID:Europe/Amsterdam
BEGIN:DAYLIGHT
TZOFFSETFROM:+0100
TZOFFSETTO:+0200
TZNAME:CEST
DTSTART:20250330T010000
END:DAYLIGHT
BEGIN:STANDARD
TZOFFSETFROM:+0200
TZOFFSETTO:+0100
TZNAME:CET
DTSTART:20251026T010000
END:STANDARD
BEGIN:DAYLIGHT
TZOFFSETFROM:+0100
TZOFFSETTO:+0200
TZNAME:CEST
DTSTART:20260329T010000
END:DAYLIGHT
BEGIN:STANDARD
TZOFFSETFROM:+0200
TZOFFSETTO:+0100
TZNAME:CET
DTSTART:20261025T010000
END:STANDARD
BEGIN:DAYLIGHT
TZOFFSETFROM:+0100
TZOFFSETTO:+0200
TZNAME:CEST
DTSTART:20270328T010000
END:DAYLIGHT
BEGIN:STANDARD
TZOFFSETFROM:+0200
TZOFFSETTO:+0100
TZNAME:CET
DTSTART:20271031T010000
END:STANDARD
END:VTIMEZONE
BEGIN:VEVENT
DTSTART;TZID=Europe/Amsterdam:20260814T080000
DTEND;TZID=Europe/Amsterdam:20260814T233000
DTSTAMP:20260421T121715
CREATED:20260117T201626Z
LAST-MODIFIED:20260119T220825Z
UID:1719-1786694400-1786750200@www.buurthuisrengerspark.nl
SUMMARY:MTV Wijkfeest 2026
DESCRIPTION:Dit jaar wordt het MTV Wijkfeest gehouden op Vrijdag 14 & Zaterdag 15 augustus 2026.
URL:https://www.buurthuisrengerspark.nl/event/mtv-wijkfeest-2026/
LOCATION:Rengerspark Leeuwarden\, Singelstraat 22\, Leeuwarden\, Friesland\, 8917BK\, Netherlands
CATEGORIES:Wijkfeest
ATTACH;FMTTYPE=image/png:https://www.buurthuisrengerspark.nl/wp-content/uploads/2025/06/MTV-Wijkfeest-news.png
ORGANIZER;CN="MTV Wijkfeest":MAILTO:info@buurthuisrengerspark.nl
END:VEVENT
BEGIN:VEVENT
DTSTART;TZID=Europe/Amsterdam:20260815T080000
DTEND;TZID=Europe/Amsterdam:20260815T233000
DTSTAMP:20260421T121715
CREATED:20260117T201756Z
LAST-MODIFIED:20260119T220852Z
UID:1721-1786780800-1786836600@www.buurthuisrengerspark.nl
SUMMARY:MTV Wijkfeest 2026
DESCRIPTION:Dit jaar wordt het MTV Wijkfeest gehouden op Vrijdag 14 & Zaterdag 15 augustus 2026.
URL:https://www.buurthuisrengerspark.nl/event/mtv-wijkfeest-2026-2/
LOCATION:Rengerspark Leeuwarden\, Singelstraat 22\, Leeuwarden\, Friesland\, 8917BK\, Netherlands
CATEGORIES:Wijkfeest
ATTACH;FMTTYPE=image/png:https://www.buurthuisrengerspark.nl/wp-content/uploads/2025/06/MTV-Wijkfeest-news.png
ORGANIZER;CN="MTV Wijkfeest":MAILTO:info@buurthuisrengerspark.nl
END:VEVENT
END:VCALENDAR