BEGIN:VCALENDAR
VERSION:2.0
PRODID:-// - ECPv6.15.19//NONSGML v1.0//EN
CALSCALE:GREGORIAN
METHOD:PUBLISH
X-ORIGINAL-URL:https://www.buurthuisrengerspark.nl
X-WR-CALDESC:Evenementen voor 
REFRESH-INTERVAL;VALUE=DURATION:PT1H
X-Robots-Tag:noindex
X-PUBLISHED-TTL:PT1H
BEGIN:VTIMEZONE
TZID:Europe/Amsterdam
BEGIN:DAYLIGHT
TZOFFSETFROM:+0100
TZOFFSETTO:+0200
TZNAME:CEST
DTSTART:20240331T010000
END:DAYLIGHT
BEGIN:STANDARD
TZOFFSETFROM:+0200
TZOFFSETTO:+0100
TZNAME:CET
DTSTART:20241027T010000
END:STANDARD
BEGIN:DAYLIGHT
TZOFFSETFROM:+0100
TZOFFSETTO:+0200
TZNAME:CEST
DTSTART:20250330T010000
END:DAYLIGHT
BEGIN:STANDARD
TZOFFSETFROM:+0200
TZOFFSETTO:+0100
TZNAME:CET
DTSTART:20251026T010000
END:STANDARD
BEGIN:DAYLIGHT
TZOFFSETFROM:+0100
TZOFFSETTO:+0200
TZNAME:CEST
DTSTART:20260329T010000
END:DAYLIGHT
BEGIN:STANDARD
TZOFFSETFROM:+0200
TZOFFSETTO:+0100
TZNAME:CET
DTSTART:20261025T010000
END:STANDARD
END:VTIMEZONE
BEGIN:VEVENT
DTSTART;TZID=Europe/Amsterdam:20250731T193000
DTEND;TZID=Europe/Amsterdam:20250731T233000
DTSTAMP:20260421T025049
CREATED:20250724T211050Z
LAST-MODIFIED:20250725T110147Z
UID:933-1753990200-1754004600@www.buurthuisrengerspark.nl
SUMMARY:Biljarten op Donderdag avond
DESCRIPTION:Donderdagavond\, vaste biljartavond.
URL:https://www.buurthuisrengerspark.nl/event/biljarten-op-donderdagavond/
LOCATION:Buurthuis Rengerspark\, Singelstraat 22\, Leeuwarden\, Friesland\, 8917BK\, Netherlands
CATEGORIES:Biljarten
ATTACH;FMTTYPE=image/jpeg:https://www.buurthuisrengerspark.nl/wp-content/uploads/2024/01/biljart.jpg
ORGANIZER;CN="Biljartvereniging":MAILTO:info@buurthuisrengerspark.nl
END:VEVENT
BEGIN:VEVENT
DTSTART;TZID=Europe/Amsterdam:20250730T193000
DTEND;TZID=Europe/Amsterdam:20250730T233000
DTSTAMP:20260421T025049
CREATED:20250724T210005Z
LAST-MODIFIED:20250725T110153Z
UID:925-1753903800-1753918200@www.buurthuisrengerspark.nl
SUMMARY:Biljarten op Woensdag avond
DESCRIPTION:De vaste woensdagavond\, biljartavond
URL:https://www.buurthuisrengerspark.nl/event/biljarten/
LOCATION:Buurthuis Rengerspark\, Singelstraat 22\, Leeuwarden\, Friesland\, 8917BK\, Netherlands
CATEGORIES:Biljarten
ATTACH;FMTTYPE=image/jpeg:https://www.buurthuisrengerspark.nl/wp-content/uploads/2024/01/biljart.jpg
ORGANIZER;CN="Biljartvereniging":MAILTO:info@buurthuisrengerspark.nl
END:VEVENT
BEGIN:VEVENT
DTSTART;TZID=Europe/Amsterdam:20250729T140000
DTEND;TZID=Europe/Amsterdam:20250729T180000
DTSTAMP:20260421T025049
CREATED:20250724T204022Z
LAST-MODIFIED:20250725T110205Z
UID:918-1753797600-1753812000@www.buurthuisrengerspark.nl
SUMMARY:Biljarten op Dinsdag middag
DESCRIPTION:Naast de vaste woensdag- en donderdagavond biljartclubs is er nu ook de mogelijkheid om op dinsdagmiddag ‘een biljartje te leggen’. Bent u op dinsdagmiddag vrij en zoekt u nog een leuke bezigheid loop dan gerust eens binnen. \nZowel beginners als gevorderden zijn van harte welkom. De competitie wordt georganiseerd door Geert Laanstra. Bouke Rispens opent de deur van het buurthuis rond 14.00 uur.
URL:https://www.buurthuisrengerspark.nl/event/mtv-wijkfeest/
LOCATION:Buurthuis Rengerspark\, Singelstraat 22\, Leeuwarden\, Friesland\, 8917BK\, Netherlands
CATEGORIES:Biljarten
ATTACH;FMTTYPE=image/jpeg:https://www.buurthuisrengerspark.nl/wp-content/uploads/2024/01/biljart.jpg
ORGANIZER;CN="Biljartvereniging":MAILTO:info@buurthuisrengerspark.nl
END:VEVENT
BEGIN:VEVENT
DTSTART;TZID=Europe/Amsterdam:20250725T140000
DTEND;TZID=Europe/Amsterdam:20250725T233000
DTSTAMP:20260421T025049
CREATED:20250724T211449Z
LAST-MODIFIED:20250725T110210Z
UID:935-1753452000-1753486200@www.buurthuisrengerspark.nl
SUMMARY:UCP Spellen vereniging
DESCRIPTION:Elke vrijdag avond is er spellenavond! \nNatuurlijk zijn er volop bordspellen te spelen en daarnaast zijn vrijwel alle spelgroepen vertegenwoordigd en is er van alles te spelen!
URL:https://www.buurthuisrengerspark.nl/event/ucp-spellenvereniging/
LOCATION:Buurthuis Rengerspark\, Singelstraat 22\, Leeuwarden\, Friesland\, 8917BK\, Netherlands
CATEGORIES:UCP Spellenvereniging
ATTACH;FMTTYPE=image/jpeg:https://www.buurthuisrengerspark.nl/wp-content/uploads/2025/06/ucp_leeuwarden.jpg
ORGANIZER;CN="UCP Spellenvereniging":MAILTO:info@ucpleeuwarden.nl
END:VEVENT
END:VCALENDAR